BEGIN:VCALENDAR
VERSION:2.0
PRODID:-//AudioTheme 2.3.1
BEGIN:VEVENT
UID:urn:uuid:d59c6dba-1446-43cb-9ea9-1cfecd873b63
URL:https://westminsterchorus.org/shows/scva-close-harmony-festival/
DTSTART;TZID=GMT:20190210T200000
SUMMARY:SCVA Close Harmony Festival
DESCRIPTION:http://www.scvachoral.org/close_harmony_festival.php
LOCATION:West High School Performing Arts Center\, 20401 Victor Street\, Torrance\, CA\, United States
END:VEVENT
END:VCALENDAR
