BEGIN:VCALENDAR
VERSION:2.0
PRODID:-//AudioTheme 2.3.1
BEGIN:VEVENT
UID:urn:uuid:1854caf0-c78d-4f62-bea9-b238dc7bf625
URL:https://westminsterchorus.org/shows/annual-show/
DTSTART;TZID=GMT:20190622T190000
SUMMARY:Annual Show
LOCATION:Bovard Auditorium\, University of Sourthern California\, 3551 Trousdale Parkway\, Los Angeles\, CA\, 90089
END:VEVENT
END:VCALENDAR
